BEGIN:VCALENDAR
VERSION:2.0
PRODID:-//Jersey Gators Parents Association - ECPv6.15.14//NONSGML v1.0//EN
CALSCALE:GREGORIAN
METHOD:PUBLISH
X-ORIGINAL-URL:https://www.jerseygatorsparents.com
X-WR-CALDESC:Events for Jersey Gators Parents Association
REFRESH-INTERVAL;VALUE=DURATION:PT1H
X-Robots-Tag:noindex
X-PUBLISHED-TTL:PT1H
BEGIN:VTIMEZONE
TZID:America/New_York
BEGIN:DAYLIGHT
TZOFFSETFROM:-0500
TZOFFSETTO:-0400
TZNAME:EDT
DTSTART:20190310T070000
END:DAYLIGHT
BEGIN:STANDARD
TZOFFSETFROM:-0400
TZOFFSETTO:-0500
TZNAME:EST
DTSTART:20191103T060000
END:STANDARD
BEGIN:DAYLIGHT
TZOFFSETFROM:-0500
TZOFFSETTO:-0400
TZNAME:EDT
DTSTART:20200308T070000
END:DAYLIGHT
BEGIN:STANDARD
TZOFFSETFROM:-0400
TZOFFSETTO:-0500
TZNAME:EST
DTSTART:20201101T060000
END:STANDARD
BEGIN:DAYLIGHT
TZOFFSETFROM:-0500
TZOFFSETTO:-0400
TZNAME:EDT
DTSTART:20210314T070000
END:DAYLIGHT
BEGIN:STANDARD
TZOFFSETFROM:-0400
TZOFFSETTO:-0500
TZNAME:EST
DTSTART:20211107T060000
END:STANDARD
END:VTIMEZONE
BEGIN:VEVENT
DTSTART;VALUE=DATE:20200307
DTEND;VALUE=DATE:20200309
DTSTAMP:20260420T133741
CREATED:20200204T231450Z
LAST-MODIFIED:20200210T122828Z
UID:6340-1583539200-1583711999@www.jerseygatorsparents.com
SUMMARY:13/over SILVER Champs
DESCRIPTION:meet info  13over silver meet info\nmeet eligibility report 13over silver champs eligibility updated\nEvent list  13over silver event list\n\n  \n\nEntry deadline is 4 pm Mon 2/10.   The entry form will not be available after 4 pm  Mon 2/10.  NO emailed or late entries.  \n\n[upme_private]\nJavascript is disabledJavascript is disabled on your browser. Please enable it in order to use this form. \nLoading\n\nOops!This sign-up form has expired [/upme_private]
URL:https://www.jerseygatorsparents.com/event/13-over-silver-champs/
LOCATION:Berkeley Aquatic Center\, 629 Central Ave\, New Providence\, NJ\, 07974\, United States
CATEGORIES:Away Swim Meet,Champs,Invitational,Swim meets
ATTACH;FMTTYPE=image/jpeg:https://www.jerseygatorsparents.com/wp-content/uploads/2018/03/IMG_1706.jpg
END:VEVENT
BEGIN:VEVENT
DTSTART;VALUE=DATE:20200312
DTEND;VALUE=DATE:20200316
DTSTAMP:20260420T133741
CREATED:20200205T131137Z
LAST-MODIFIED:20200214T044828Z
UID:6367-1583971200-1584316799@www.jerseygatorsparents.com
SUMMARY:SR Open Champs
DESCRIPTION:meet info  sr open champs meet info\nmeet eligibility report   sr open champs eligibility\nevent list  sr open champs event list\n\n\nEntry deadline is 4 pm Wed 2/12.   The entry form will not be available after 4 pm  Wed 2/12.  NO emailed or late entries.  \n\n[upme_private]\nJavascript is disabledJavascript is disabled on your browser. Please enable it in order to use this form. \nLoading\n\nOops!This sign-up form has expired [/upme_private]
URL:https://www.jerseygatorsparents.com/event/sr-open-champs/
LOCATION:Berkeley Aquatic Center\, 629 Central Ave\, New Providence\, NJ\, 07974\, United States
CATEGORIES:Away Swim Meet,Champs,Invitational,Swim meets
ATTACH;FMTTYPE=image/jpeg:https://www.jerseygatorsparents.com/wp-content/uploads/2018/03/IMG_0849.jpg
END:VEVENT
BEGIN:VEVENT
DTSTART;VALUE=DATE:20200320
DTEND;VALUE=DATE:20200323
DTSTAMP:20260420T133742
CREATED:20190831T144245Z
LAST-MODIFIED:20200308T170109Z
UID:5381-1584662400-1584921599@www.jerseygatorsparents.com
SUMMARY:Jr Olympics
DESCRIPTION:Gold time standard.  Visit https://www.teamunify.com/SubTabGeneric.jsp?team=eznjslsc&_stabid_=67968 \n\nmeet info  14u jo meet info\nmeet eligibility report  14u jo eligibility\nevent list  14u jo event list\n\n\nEntry deadline is 7:30 pm Tues 3/10.   The entry form will not be available after 7:30 pm  Tues 3/10.  NO emailed or late entries.  \n\n[upme_private]\n\nJavascript is disabledJavascript is disabled on your browser. Please enable it in order to use this form. \nLoading\n\nOops!This sign-up form has expired \n[/upme_private]
URL:https://www.jerseygatorsparents.com/event/jr-olympics/
LOCATION:Rutgers University – Sonny Werblin Recreation Center\, 656 Bartholomew Rd\, Piscataway Township\, NJ\, 08854\, United States
CATEGORIES:Away Swim Meet,Champs,Invitational,Swim meets
ATTACH;FMTTYPE=image/jpeg:https://www.jerseygatorsparents.com/wp-content/uploads/2018/03/IMG_1706.jpg
END:VEVENT
END:VCALENDAR