BEGIN:VCALENDAR
VERSION:2.0
PRODID:-//Jersey Gators Parents Association - ECPv6.15.14//NONSGML v1.0//EN
CALSCALE:GREGORIAN
METHOD:PUBLISH
X-WR-CALNAME:Jersey Gators Parents Association
X-ORIGINAL-URL:https://www.jerseygatorsparents.com
X-WR-CALDESC:Events for Jersey Gators Parents Association
REFRESH-INTERVAL;VALUE=DURATION:PT1H
X-Robots-Tag:noindex
X-PUBLISHED-TTL:PT1H
BEGIN:VTIMEZONE
TZID:America/New_York
BEGIN:DAYLIGHT
TZOFFSETFROM:-0500
TZOFFSETTO:-0400
TZNAME:EDT
DTSTART:20180311T070000
END:DAYLIGHT
BEGIN:STANDARD
TZOFFSETFROM:-0400
TZOFFSETTO:-0500
TZNAME:EST
DTSTART:20181104T060000
END:STANDARD
BEGIN:DAYLIGHT
TZOFFSETFROM:-0500
TZOFFSETTO:-0400
TZNAME:EDT
DTSTART:20190310T070000
END:DAYLIGHT
BEGIN:STANDARD
TZOFFSETFROM:-0400
TZOFFSETTO:-0500
TZNAME:EST
DTSTART:20191103T060000
END:STANDARD
BEGIN:DAYLIGHT
TZOFFSETFROM:-0500
TZOFFSETTO:-0400
TZNAME:EDT
DTSTART:20200308T070000
END:DAYLIGHT
BEGIN:STANDARD
TZOFFSETFROM:-0400
TZOFFSETTO:-0500
TZNAME:EST
DTSTART:20201101T060000
END:STANDARD
END:VTIMEZONE
BEGIN:VEVENT
DTSTART;TZID=America/New_York:20191012T083000
DTEND;TZID=America/New_York:20191012T120000
DTSTAMP:20260420T225759
CREATED:20190831T140042Z
LAST-MODIFIED:20190928T142938Z
UID:5344-1570869000-1570881600@www.jerseygatorsparents.com
SUMMARY:Time Trial Home Meet
DESCRIPTION:Time Trial Home Meet. \n** All swimmers 13 & under welcome \n** Meet info  JG 13U blue gold meet info.pdf \n**Event list  jg 13u blue gold event list.pdf \n** volunteer signup will be available Wed 10/9 or Thurs 10/10 \n** The entry form will be available from 8am Sat 10/5 to 7:30pm Wed 10/9.    The entry form will not be available after 7:30 pm Wed 10/9.  NO emailed or late entries \n[upme_private]\nJavascript is disabledJavascript is disabled on your browser. Please enable it in order to use this form. \nLoading\n\nOops!This form has expired [/upme_private]
URL:https://www.jerseygatorsparents.com/event/time-trial-home-meet/
LOCATION:Cranford Pool\, 401 Centennial Ave\, Cranford\, NJ\, 07016\, United States
CATEGORIES:Home Swim Meet,Swim meets
ATTACH;FMTTYPE=image/jpeg:https://www.jerseygatorsparents.com/wp-content/uploads/2019/08/49385919_10155594682406266_8805823128883167232_n.jpg
END:VEVENT
BEGIN:VEVENT
DTSTART;TZID=America/New_York:20191018T000000
DTEND;TZID=America/New_York:20191020T000000
DTSTAMP:20260420T225759
CREATED:20190829T211308Z
LAST-MODIFIED:20190926T151335Z
UID:4173-1571356800-1571529600@www.jerseygatorsparents.com
SUMMARY:2019 Fall Fest
DESCRIPTION:** Eligibility report  fall fest eligibility.pdf \n** event list fall fest event list.pdf \n** meet info fall fest meet info.pdf \n** The entry deadline is 9 am Sunday 9/15   The entry form will not be available after 9 am 9/15.  NO emailed entries \n[upme_private]\nJavascript is disabledJavascript is disabled on your browser. Please enable it in order to use this form. \nLoading\n\nOops!This sign-up form has expired [/upme_private]
URL:https://www.jerseygatorsparents.com/event/2019-fall-fest/
LOCATION:DeNunzio Pool – Princeton University\, 47 Faculty Road\, Princeton\, NJ\, 08540\, United States
CATEGORIES:Away Swim Meet,Invitational,Swim meets
ATTACH;FMTTYPE=image/jpeg:https://www.jerseygatorsparents.com/wp-content/uploads/2019/08/55575953_10155460605954364_2912445000186855424_n.jpg
END:VEVENT
BEGIN:VEVENT
DTSTART;TZID=America/New_York:20191026T083000
DTEND;TZID=America/New_York:20191026T120000
DTSTAMP:20260420T225759
CREATED:20190831T140927Z
LAST-MODIFIED:20190928T143939Z
UID:5350-1572078600-1572091200@www.jerseygatorsparents.com
SUMMARY:Home Dual vs. CCC
DESCRIPTION:Home Meet vs. CCC for all swimmers. \nTime Trial Home Meet. \n** All swimmers welcome \n** Meet info  jg vs ccc 102619 meet info.pdf \n**Event list jg vs ccc 102619 event list.pdf \n** volunteer signup will be available Wed 10/23 or Thurs 10/24 \n** The entry form will be available from 8am Sat 10/19 to 7:30pm Wed 10/23.    The entry form will not be available after 7:30 pm Wed 10/23.  NO emailed or late entries \n[upme_private]\n\nJavascript is disabledJavascript is disabled on your browser. Please enable it in order to use this form. \nLoading\n\nOops!This form has expired \n[/upme_private]
URL:https://www.jerseygatorsparents.com/event/home-dual-vs-ccc/
LOCATION:Cranford Pool\, 401 Centennial Ave\, Cranford\, NJ\, 07016\, United States
CATEGORIES:Home Swim Meet,Swim meets
ATTACH;FMTTYPE=image/jpeg:https://www.jerseygatorsparents.com/wp-content/uploads/2018/03/IMG_1706.jpg
END:VEVENT
END:VCALENDAR