BEGIN:VCALENDAR
VERSION:2.0
PRODID:-//Jersey Gators Parents Association - ECPv6.15.14//NONSGML v1.0//EN
CALSCALE:GREGORIAN
METHOD:PUBLISH
X-WR-CALNAME:Jersey Gators Parents Association
X-ORIGINAL-URL:https://www.jerseygatorsparents.com
X-WR-CALDESC:Events for Jersey Gators Parents Association
REFRESH-INTERVAL;VALUE=DURATION:PT1H
X-Robots-Tag:noindex
X-PUBLISHED-TTL:PT1H
BEGIN:VTIMEZONE
TZID:America/New_York
BEGIN:DAYLIGHT
TZOFFSETFROM:-0500
TZOFFSETTO:-0400
TZNAME:EDT
DTSTART:20180311T070000
END:DAYLIGHT
BEGIN:STANDARD
TZOFFSETFROM:-0400
TZOFFSETTO:-0500
TZNAME:EST
DTSTART:20181104T060000
END:STANDARD
BEGIN:DAYLIGHT
TZOFFSETFROM:-0500
TZOFFSETTO:-0400
TZNAME:EDT
DTSTART:20190310T070000
END:DAYLIGHT
BEGIN:STANDARD
TZOFFSETFROM:-0400
TZOFFSETTO:-0500
TZNAME:EST
DTSTART:20191103T060000
END:STANDARD
BEGIN:DAYLIGHT
TZOFFSETFROM:-0500
TZOFFSETTO:-0400
TZNAME:EDT
DTSTART:20200308T070000
END:DAYLIGHT
BEGIN:STANDARD
TZOFFSETFROM:-0400
TZOFFSETTO:-0500
TZNAME:EST
DTSTART:20201101T060000
END:STANDARD
END:VTIMEZONE
BEGIN:VEVENT
DTSTART;TZID=America/New_York:20190202T080000
DTEND;TZID=America/New_York:20190202T120000
DTSTAMP:20260423T134234
CREATED:20181213T220607Z
LAST-MODIFIED:20190111T052927Z
UID:4556-1549094400-1549108800@www.jerseygatorsparents.com
SUMMARY:Home Meet vs. CCC
DESCRIPTION:** All swimmers welcome \n** Meet info  jg vs jg vs CCC 020219 meet info.pdf \n**Event list  jg vs ccc 020219 event list.pdf \n** volunteer signup will be available Wed or Thurs \n** The entry form will be available from 8am Sat 1/26 to 7:30pm Wed 1/30.   The entry form will not be available after 7:30 pm Wed 1/30.  NO emailed or late entries \n[upme_private] \n\nJavascript is disabledJavascript is disabled on your browser. Please enable it in order to use this form. \nLoading\n\nOops!This form has expired \n[/upme_private]
URL:https://www.jerseygatorsparents.com/event/home-meet-vs-ccc/
LOCATION:Cranford Pool\, 401 Centennial Ave\, Cranford\, NJ\, 07016\, United States
CATEGORIES:Home Swim Meet,Swim meets
ATTACH;FMTTYPE=image/jpeg:https://www.jerseygatorsparents.com/wp-content/uploads/2018/03/IMG_1708.jpg
END:VEVENT
BEGIN:VEVENT
DTSTART;TZID=America/New_York:20190202T080000
DTEND;TZID=America/New_York:20190203T170000
DTSTAMP:20260423T134234
CREATED:20181213T220806Z
LAST-MODIFIED:20190128T161352Z
UID:4558-1549094400-1549213200@www.jerseygatorsparents.com
SUMMARY:Jr-Sr State Championships - Time Standard meet
DESCRIPTION:2019 Jr-Sr State Championships \n** Eligibility report  (Do not enter friday events #1-12) sr state eligibility.pdf   \n** Meet info  sr state meet info.pdf \n** event list sr state event list.pdf \n** The entry deadline is 8pm Tues 1/22.   The entry form will not be available after 8pm 1/22.  NO emailed entries \n[upme_private] \n\nJavascript is disabledJavascript is disabled on your browser. Please enable it in order to use this form. \nLoading\n\nOops!This sign-up form has expired \n[/upme_private]
URL:https://www.jerseygatorsparents.com/event/senior-states-invitational-meet-time-standard-meet/
LOCATION:Rutgers University – Sonny Werblin Recreation Center\, 656 Bartholomew Rd\, Piscataway Township\, NJ\, 08854\, United States
CATEGORIES:Away Swim Meet,Champs,Invitational
ATTACH;FMTTYPE=image/jpeg:https://www.jerseygatorsparents.com/wp-content/uploads/2018/03/IMG_1706.jpg
END:VEVENT
BEGIN:VEVENT
DTSTART;TZID=America/New_York:20190209T080000
DTEND;TZID=America/New_York:20190209T170000
DTSTAMP:20260423T134234
CREATED:20181213T220908Z
LAST-MODIFIED:20190128T161434Z
UID:4560-1549699200-1549731600@www.jerseygatorsparents.com
SUMMARY:MB Sprints - Open Meet.  All Swimmers
DESCRIPTION:2019 MB Sprints \n** Eligibility report  mb sprints eligibility report.pdf \n** Meet info  mb sprints meet info.pdf \n** event list  mb sprints event list.pdf \n** The entry deadline is NOON SUN 12/30.   The entry form will not be available after NOON SUN 12/30.  NO emailed entries \n[upme_private] \n\nJavascript is disabledJavascript is disabled on your browser. Please enable it in order to use this form. \nLoading\n\nOops!This sign-up form has expired \n[/upme_private]
URL:https://www.jerseygatorsparents.com/event/mb-sprints-open-meet-all-swimmers/
LOCATION:Neptune Aquatic Center\, 55 Neptune Blvd\, Neptune\, NJ\, 07753\, United States
CATEGORIES:Away Swim Meet,Invitational,Swim meets
ATTACH;FMTTYPE=image/jpeg:https://www.jerseygatorsparents.com/wp-content/uploads/2018/03/IMG_0968.jpg
END:VEVENT
BEGIN:VEVENT
DTSTART;TZID=America/New_York:20190216T080000
DTEND;TZID=America/New_York:20190217T170000
DTSTAMP:20260423T134234
CREATED:20181231T175209Z
LAST-MODIFIED:20190204T152121Z
UID:4588-1550304000-1550422800@www.jerseygatorsparents.com
SUMMARY:12 & Under Silver/Bronze Region C Finals
DESCRIPTION:2019 12& Under Silver/Bronze Champs \n** Eligibility report  (updated 2/4)  12u champs updated eligibility.pdf \n** event list 12u silver bronze event list.pdf \n** The entry deadline is 2pm Thurs 2/7.   The entry form will not be available after 2pm 2/7.  NO emailed entries \n[upme_private] \n\nJavascript is disabledJavascript is disabled on your browser. Please enable it in order to use this form. \nLoading\n\nOops!This sign-up form has expired \n[/upme_private]
URL:https://www.jerseygatorsparents.com/event/12-under-silver-bronze-region-c-finals/
LOCATION:Newark Academy\, 91 South Orange Avenue\, Livingston\, NJ\, 07039\, United States
CATEGORIES:Away Swim Meet,Champs,Invitational,Swim meets
ATTACH;FMTTYPE=image/jpeg:https://www.jerseygatorsparents.com/wp-content/uploads/2018/03/IMG_0849.jpg
END:VEVENT
END:VCALENDAR