BEGIN:VCALENDAR
VERSION:2.0
PRODID:-//Jersey Gators Parents Association - ECPv6.15.14//NONSGML v1.0//EN
CALSCALE:GREGORIAN
METHOD:PUBLISH
X-WR-CALNAME:Jersey Gators Parents Association
X-ORIGINAL-URL:https://www.jerseygatorsparents.com
X-WR-CALDESC:Events for Jersey Gators Parents Association
REFRESH-INTERVAL;VALUE=DURATION:PT1H
X-Robots-Tag:noindex
X-PUBLISHED-TTL:PT1H
BEGIN:VTIMEZONE
TZID:America/New_York
BEGIN:DAYLIGHT
TZOFFSETFROM:-0500
TZOFFSETTO:-0400
TZNAME:EDT
DTSTART:20170312T070000
END:DAYLIGHT
BEGIN:STANDARD
TZOFFSETFROM:-0400
TZOFFSETTO:-0500
TZNAME:EST
DTSTART:20171105T060000
END:STANDARD
BEGIN:DAYLIGHT
TZOFFSETFROM:-0500
TZOFFSETTO:-0400
TZNAME:EDT
DTSTART:20180311T070000
END:DAYLIGHT
BEGIN:STANDARD
TZOFFSETFROM:-0400
TZOFFSETTO:-0500
TZNAME:EST
DTSTART:20181104T060000
END:STANDARD
BEGIN:DAYLIGHT
TZOFFSETFROM:-0500
TZOFFSETTO:-0400
TZNAME:EDT
DTSTART:20190310T070000
END:DAYLIGHT
BEGIN:STANDARD
TZOFFSETFROM:-0400
TZOFFSETTO:-0500
TZNAME:EST
DTSTART:20191103T060000
END:STANDARD
END:VTIMEZONE
BEGIN:VEVENT
DTSTART;TZID=America/New_York:20181103T090000
DTEND;TZID=America/New_York:20181103T120000
DTSTAMP:20260423T182226
CREATED:20180930T144546Z
LAST-MODIFIED:20181026T015037Z
UID:4210-1541235600-1541246400@www.jerseygatorsparents.com
SUMMARY:Dual Meet: Jersey Gators vs. New Jersey Race Club
DESCRIPTION:** Meet info  jg vs NJRC 110318 meet info \n** event list  jg vs njrc 110318 event list \n** volunteer signup will be available Wed or Thurs \n** The entry form will be available from 8am Sat 10/27 to 7:30pm Wed 10/31.   The entry form will not be available after 7:30 pm Wed 10/31.  NO emailed or late entries \n[upme_private] \n\nJavascript is disabledJavascript is disabled on your browser. Please enable it in order to use this form. \nLoading\n\nOops!This form has expired \n[/upme_private]
URL:https://www.jerseygatorsparents.com/event/dual-meet-jersey-gators-vs-new-jersey-race-club/
LOCATION:Cranford Pool\, 401 Centennial Ave\, Cranford\, NJ\, 07016\, United States
CATEGORIES:Home Swim Meet,Swim meets
ATTACH;FMTTYPE=image/jpeg:https://www.jerseygatorsparents.com/wp-content/uploads/2018/03/IMG_1708.jpg
END:VEVENT
BEGIN:VEVENT
DTSTART;TZID=America/New_York:20181116T080000
DTEND;TZID=America/New_York:20181118T170000
DTSTAMP:20260423T182226
CREATED:20181018T204545Z
LAST-MODIFIED:20181024T023828Z
UID:4292-1542355200-1542560400@www.jerseygatorsparents.com
SUMMARY:2018 Thanksgiving Classic
DESCRIPTION:2018 Thanksgiving Classic \n** Eligibility report thanksgiving classic eligibility \n** Meet info thanksgiving classic meet info \n**Event list thanksgiving classic event list \n** The entry deadline is noon Sun 10/21 .   The entry form will not be available after noon 10/21.  NO emailed entries \n[upme_private] \n\nJavascript is disabledJavascript is disabled on your browser. Please enable it in order to use this form. \nLoading\n\nOops!This sign-up form has expired \n[/upme_private]
URL:https://www.jerseygatorsparents.com/event/2018-thanksgiving-classic/
LOCATION:Peddie Aquatics Center – Hightstown NJ\, 155 Etra Rd\, Hightstown\, NJ\, 08520\, United States
CATEGORIES:Away Swim Meet,Invitational,Swim meets
ATTACH;FMTTYPE=image/jpeg:https://www.jerseygatorsparents.com/wp-content/uploads/2018/03/IMG_1706.jpg
END:VEVENT
BEGIN:VEVENT
DTSTART;TZID=America/New_York:20181124T080000
DTEND;TZID=America/New_York:20181125T220000
DTSTAMP:20260423T182226
CREATED:20181017T000736Z
LAST-MODIFIED:20181024T023939Z
UID:4265-1543046400-1543183200@www.jerseygatorsparents.com
SUMMARY:Scar Fast times 2018
DESCRIPTION:Scar Fast times 2018 \n** Sat session 4 Eligibility report scar fast times eligibility sat session 4 \n** Sun session 7 eligibility report scar fast times eligibility sun session 7 \n** Meet info  scar fast times meet info \n** event list  scar fast times event list \n** The entry deadline is 3 pm Thurs 10/18.   The entry form will not be available after 3 pm 10/18.  NO emailed entries \n[upme_private] \n\nJavascript is disabledJavascript is disabled on your browser. Please enable it in order to use this form. \nLoading\n\nOops!This sign-up form has expired \n[/upme_private]
URL:https://www.jerseygatorsparents.com/event/scar-fast-times-2018/
LOCATION:Lyndhurst Community Pool\, 400 Weart Road\, Lyndhurst\, NJ\, 07070\, United States
CATEGORIES:Invitational,Swim meets
ATTACH;FMTTYPE=image/jpeg:https://www.jerseygatorsparents.com/wp-content/uploads/2018/03/IMG_0849.jpg
END:VEVENT
END:VCALENDAR