BEGIN:VCALENDAR
VERSION:2.0
PRODID:-//Jersey Gators Parents Association - ECPv6.15.14//NONSGML v1.0//EN
CALSCALE:GREGORIAN
METHOD:PUBLISH
X-ORIGINAL-URL:https://www.jerseygatorsparents.com
X-WR-CALDESC:Events for Jersey Gators Parents Association
REFRESH-INTERVAL;VALUE=DURATION:PT1H
X-Robots-Tag:noindex
X-PUBLISHED-TTL:PT1H
BEGIN:VTIMEZONE
TZID:America/New_York
BEGIN:DAYLIGHT
TZOFFSETFROM:-0500
TZOFFSETTO:-0400
TZNAME:EDT
DTSTART:20170312T070000
END:DAYLIGHT
BEGIN:STANDARD
TZOFFSETFROM:-0400
TZOFFSETTO:-0500
TZNAME:EST
DTSTART:20171105T060000
END:STANDARD
BEGIN:DAYLIGHT
TZOFFSETFROM:-0500
TZOFFSETTO:-0400
TZNAME:EDT
DTSTART:20180311T070000
END:DAYLIGHT
BEGIN:STANDARD
TZOFFSETFROM:-0400
TZOFFSETTO:-0500
TZNAME:EST
DTSTART:20181104T060000
END:STANDARD
BEGIN:DAYLIGHT
TZOFFSETFROM:-0500
TZOFFSETTO:-0400
TZNAME:EDT
DTSTART:20190310T070000
END:DAYLIGHT
BEGIN:STANDARD
TZOFFSETFROM:-0400
TZOFFSETTO:-0500
TZNAME:EST
DTSTART:20191103T060000
END:STANDARD
END:VTIMEZONE
BEGIN:VEVENT
DTSTART;TZID=America/New_York:20181005T184500
DTEND;TZID=America/New_York:20181005T191500
DTSTAMP:20260423T195956
CREATED:20180930T145418Z
LAST-MODIFIED:20180930T145425Z
UID:4218-1538765100-1538766900@www.jerseygatorsparents.com
SUMMARY:New Parent Meeting
DESCRIPTION:We will hold a new parent meeting in between practices on Friday evening.  The meeting will begin at 6:45 pm.
URL:https://www.jerseygatorsparents.com/event/new-parent-meeting/
LOCATION:NJ
CATEGORIES:Parent Meeting
END:VEVENT
BEGIN:VEVENT
DTSTART;TZID=America/New_York:20181020T080000
DTEND;TZID=America/New_York:20181021T170000
DTSTAMP:20260423T195956
CREATED:20180914T005527Z
LAST-MODIFIED:20180914T005627Z
UID:4174-1540022400-1540141200@www.jerseygatorsparents.com
SUMMARY:2018 Fall Fest
DESCRIPTION:2018 Fall Fest \n** Eligibility report fall fest eligibility.pdf \n** Meet info  fall fest meet info.pdf \n** event list  fall fest event list.pdf \n** The entry deadline is 9 AM 9/16.   The entry form will not be available after 9 am 9/16.  NO emailed entries \n[upme_private] \n\nJavascript is disabledJavascript is disabled on your browser. Please enable it in order to use this form. \nLoading\n\nOops!This sign-up form has expired \n[/upme_private]
URL:https://www.jerseygatorsparents.com/event/2018-fall-fest/
LOCATION:DeNunzio Pool – Princeton University\, 47 Faculty Road\, Princeton\, NJ\, 08540\, United States
END:VEVENT
BEGIN:VEVENT
DTSTART;TZID=America/New_York:20181027T090000
DTEND;TZID=America/New_York:20181027T120000
DTSTAMP:20260423T195956
CREATED:20180930T144419Z
LAST-MODIFIED:20181024T015628Z
UID:4208-1540630800-1540641600@www.jerseygatorsparents.com
SUMMARY:Dual Meet: Jersey Gators vs. Caldwell Cyclones
DESCRIPTION:** Meet info  jg vs ccc 102718.pdf \n** event list jg vs ccc 102718 event list.pdf \n** The entry form will be available from 8am Sat 10/20 to 7:30pm Wed 10/24.   The entry form will not be available after 7:30 pm Wed 10/24.  NO emailed or late entries \n[upme_private] \n\nJavascript is disabledJavascript is disabled on your browser. Please enable it in order to use this form. \nLoading\n\nOops!This form has expired \n[/upme_private]
URL:https://www.jerseygatorsparents.com/event/dual-meet-jersey-gators-vs-caldwell-cyclones/
LOCATION:Cranford Pool\, 401 Centennial Ave\, Cranford\, NJ\, 07016\, United States
CATEGORIES:Home Swim Meet,Swim meets
ATTACH;FMTTYPE=image/jpeg:https://www.jerseygatorsparents.com/wp-content/uploads/2018/03/IMG_1708.jpg
END:VEVENT
END:VCALENDAR