BEGIN:VCALENDAR
VERSION:2.0
PRODID:-//Jersey Gators Parents Association - ECPv6.15.14//NONSGML v1.0//EN
CALSCALE:GREGORIAN
METHOD:PUBLISH
X-WR-CALNAME:Jersey Gators Parents Association
X-ORIGINAL-URL:https://www.jerseygatorsparents.com
X-WR-CALDESC:Events for Jersey Gators Parents Association
REFRESH-INTERVAL;VALUE=DURATION:PT1H
X-Robots-Tag:noindex
X-PUBLISHED-TTL:PT1H
BEGIN:VTIMEZONE
TZID:America/New_York
BEGIN:DAYLIGHT
TZOFFSETFROM:-0500
TZOFFSETTO:-0400
TZNAME:EDT
DTSTART:20190310T070000
END:DAYLIGHT
BEGIN:STANDARD
TZOFFSETFROM:-0400
TZOFFSETTO:-0500
TZNAME:EST
DTSTART:20191103T060000
END:STANDARD
BEGIN:DAYLIGHT
TZOFFSETFROM:-0500
TZOFFSETTO:-0400
TZNAME:EDT
DTSTART:20200308T070000
END:DAYLIGHT
BEGIN:STANDARD
TZOFFSETFROM:-0400
TZOFFSETTO:-0500
TZNAME:EST
DTSTART:20201101T060000
END:STANDARD
BEGIN:DAYLIGHT
TZOFFSETFROM:-0500
TZOFFSETTO:-0400
TZNAME:EDT
DTSTART:20210314T070000
END:DAYLIGHT
BEGIN:STANDARD
TZOFFSETFROM:-0400
TZOFFSETTO:-0500
TZNAME:EST
DTSTART:20211107T060000
END:STANDARD
END:VTIMEZONE
BEGIN:VEVENT
DTSTART;VALUE=DATE:20200215
DTEND;VALUE=DATE:20200217
DTSTAMP:20260420T194400
CREATED:20190831T144741Z
LAST-MODIFIED:20200204T154555Z
UID:5388-1581724800-1581897599@www.jerseygatorsparents.com
SUMMARY:12 & Under Silver Bronze
DESCRIPTION:Silver and Bronze swimmers. \n\nUPDATED meet eligibility report 12u silver bronze updated eligibility\nMeet eligibility report  12u silver bronze eligibility.pdf\nEvent list  12u silver bronze event list.pdf\nMeet info  12U silver bronze meet info late entry\nEntry deadline is 6 pm Sat 2/1.   The entry form will not be available after 6 pm  Sat 2/1.  NO emailed or late entries.  \n\n[upme_private]\nJavascript is disabledJavascript is disabled on your browser. Please enable it in order to use this form. \nLoading\n\nOops!This sign-up form has expired [/upme_private]
URL:https://www.jerseygatorsparents.com/event/12-under-silver-bronze/
LOCATION:Newark Academy\, 91 South Orange Avenue\, Livingston\, NJ\, 07039\, United States
CATEGORIES:Away Swim Meet,Champs,Invitational,Swim meets
ATTACH;FMTTYPE=image/jpeg:https://www.jerseygatorsparents.com/wp-content/uploads/2019/08/55575953_10155460605954364_2912445000186855424_n.jpg
END:VEVENT
END:VCALENDAR