BEGIN:VCALENDAR
VERSION:2.0
PRODID:-//Jersey Gators Parents Association - ECPv6.15.14//NONSGML v1.0//EN
CALSCALE:GREGORIAN
METHOD:PUBLISH
X-ORIGINAL-URL:https://www.jerseygatorsparents.com
X-WR-CALDESC:Events for Jersey Gators Parents Association
REFRESH-INTERVAL;VALUE=DURATION:PT1H
X-Robots-Tag:noindex
X-PUBLISHED-TTL:PT1H
BEGIN:VTIMEZONE
TZID:America/New_York
BEGIN:DAYLIGHT
TZOFFSETFROM:-0500
TZOFFSETTO:-0400
TZNAME:EDT
DTSTART:20190310T070000
END:DAYLIGHT
BEGIN:STANDARD
TZOFFSETFROM:-0400
TZOFFSETTO:-0500
TZNAME:EST
DTSTART:20191103T060000
END:STANDARD
BEGIN:DAYLIGHT
TZOFFSETFROM:-0500
TZOFFSETTO:-0400
TZNAME:EDT
DTSTART:20200308T070000
END:DAYLIGHT
BEGIN:STANDARD
TZOFFSETFROM:-0400
TZOFFSETTO:-0500
TZNAME:EST
DTSTART:20201101T060000
END:STANDARD
BEGIN:DAYLIGHT
TZOFFSETFROM:-0500
TZOFFSETTO:-0400
TZNAME:EDT
DTSTART:20210314T070000
END:DAYLIGHT
BEGIN:STANDARD
TZOFFSETFROM:-0400
TZOFFSETTO:-0500
TZNAME:EST
DTSTART:20211107T060000
END:STANDARD
END:VTIMEZONE
BEGIN:VEVENT
DTSTART;TZID=America/New_York:20200118T083000
DTEND;TZID=America/New_York:20200118T120000
DTSTAMP:20260420T212615
CREATED:20190831T141920Z
LAST-MODIFIED:20200106T212902Z
UID:5360-1579336200-1579348800@www.jerseygatorsparents.com
SUMMARY:Home Meet vs. MB
DESCRIPTION:Home meet vs. MB for swimmers 14 & Under. \n** All swimmers 14 & Under welcome \n** Meet info  jg vs MB 011820 meet info \n**Event list jg vs mb 011820 event list \n** The entry form will be available from 8am Sat 1/4 to 7:30pm Wed 1/15.    The entry form will not be available after 7:30 pm Wed 1/15.  NO emailed or late entries \n[upme_private]\nJavascript is disabledJavascript is disabled on your browser. Please enable it in order to use this form. \nLoading\n\nOops!This form has expired [/upme_private]
URL:https://www.jerseygatorsparents.com/event/home-meet-vs-mb/
LOCATION:Cranford Pool\, 401 Centennial Ave\, Cranford\, NJ\, 07016\, United States
ATTACH;FMTTYPE=image/jpeg:https://www.jerseygatorsparents.com/wp-content/uploads/2019/08/55575953_10155460605954364_2912445000186855424_n.jpg
END:VEVENT
END:VCALENDAR