BEGIN:VCALENDAR
VERSION:2.0
PRODID:-//Jersey Gators Parents Association - ECPv6.15.14//NONSGML v1.0//EN
CALSCALE:GREGORIAN
METHOD:PUBLISH
X-WR-CALNAME:Jersey Gators Parents Association
X-ORIGINAL-URL:https://www.jerseygatorsparents.com
X-WR-CALDESC:Events for Jersey Gators Parents Association
REFRESH-INTERVAL;VALUE=DURATION:PT1H
X-Robots-Tag:noindex
X-PUBLISHED-TTL:PT1H
BEGIN:VTIMEZONE
TZID:America/New_York
BEGIN:DAYLIGHT
TZOFFSETFROM:-0500
TZOFFSETTO:-0400
TZNAME:EDT
DTSTART:20180311T070000
END:DAYLIGHT
BEGIN:STANDARD
TZOFFSETFROM:-0400
TZOFFSETTO:-0500
TZNAME:EST
DTSTART:20181104T060000
END:STANDARD
BEGIN:DAYLIGHT
TZOFFSETFROM:-0500
TZOFFSETTO:-0400
TZNAME:EDT
DTSTART:20190310T070000
END:DAYLIGHT
BEGIN:STANDARD
TZOFFSETFROM:-0400
TZOFFSETTO:-0500
TZNAME:EST
DTSTART:20191103T060000
END:STANDARD
BEGIN:DAYLIGHT
TZOFFSETFROM:-0500
TZOFFSETTO:-0400
TZNAME:EDT
DTSTART:20200308T070000
END:DAYLIGHT
BEGIN:STANDARD
TZOFFSETFROM:-0400
TZOFFSETTO:-0500
TZNAME:EST
DTSTART:20201101T060000
END:STANDARD
END:VTIMEZONE
BEGIN:VEVENT
DTSTART;TZID=America/New_York:20190105T080000
DTEND;TZID=America/New_York:20190106T200000
DTSTAMP:20260423T164623
CREATED:20181208T153527Z
LAST-MODIFIED:20181212T141531Z
UID:4505-1546675200-1546804800@www.jerseygatorsparents.com
SUMMARY:2019 TYR Winterfest
DESCRIPTION:2019 TYR Winterfest \n** Eligibility report  winterfest eligibility report.pdf \n** Top times report  winterfest top times report for extra events.pdf \n** Meet info  winterfest pre meet infopdf \n** event list  winterfest event .pdf \n** The entry deadline is 2 pm Sun 12/9.   The entry form will not be available after 2 pm 12/9.  NO emailed entries \n[upme_private] \n\nJavascript is disabledJavascript is disabled on your browser. Please enable it in order to use this form. \nLoading\n\nOops!This sign-up form has expired \n[/upme_private]
URL:https://www.jerseygatorsparents.com/event/2019-tyr-winterfest/
LOCATION:Rutgers University – Sonny Werblin Recreation Center\, 656 Bartholomew Rd\, Piscataway Township\, NJ\, 08854\, United States
CATEGORIES:Away Swim Meet,Invitational,Swim meets
ATTACH;FMTTYPE=image/jpeg:https://www.jerseygatorsparents.com/wp-content/uploads/2018/03/IMG_0849.jpg
END:VEVENT
END:VCALENDAR