BEGIN:VCALENDAR
VERSION:2.0
PRODID:-//Jersey Gators Parents Association - ECPv6.15.14//NONSGML v1.0//EN
CALSCALE:GREGORIAN
METHOD:PUBLISH
X-ORIGINAL-URL:https://www.jerseygatorsparents.com
X-WR-CALDESC:Events for Jersey Gators Parents Association
REFRESH-INTERVAL;VALUE=DURATION:PT1H
X-Robots-Tag:noindex
X-PUBLISHED-TTL:PT1H
BEGIN:VTIMEZONE
TZID:America/New_York
BEGIN:DAYLIGHT
TZOFFSETFROM:-0500
TZOFFSETTO:-0400
TZNAME:EDT
DTSTART:20170312T070000
END:DAYLIGHT
BEGIN:STANDARD
TZOFFSETFROM:-0400
TZOFFSETTO:-0500
TZNAME:EST
DTSTART:20171105T060000
END:STANDARD
BEGIN:DAYLIGHT
TZOFFSETFROM:-0500
TZOFFSETTO:-0400
TZNAME:EDT
DTSTART:20180311T070000
END:DAYLIGHT
BEGIN:STANDARD
TZOFFSETFROM:-0400
TZOFFSETTO:-0500
TZNAME:EST
DTSTART:20181104T060000
END:STANDARD
BEGIN:DAYLIGHT
TZOFFSETFROM:-0500
TZOFFSETTO:-0400
TZNAME:EDT
DTSTART:20190310T070000
END:DAYLIGHT
BEGIN:STANDARD
TZOFFSETFROM:-0400
TZOFFSETTO:-0500
TZNAME:EST
DTSTART:20191103T060000
END:STANDARD
END:VTIMEZONE
BEGIN:VEVENT
DTSTART;TZID=America/New_York:20181215T080000
DTEND;TZID=America/New_York:20181216T170000
DTSTAMP:20260423T195321
CREATED:20181017T022021Z
LAST-MODIFIED:20181204T020319Z
UID:4277-1544860800-1544979600@www.jerseygatorsparents.com
SUMMARY:NY Sharks Holiday Classic
DESCRIPTION:NY sharks Holiday Classic \n** updated Eligibility report shark holiday classic eligibility updated \n** accepted meet entries sharks acceptedupdatedentries.pdf \n** Amended meet info shark holiday classic amended meet info \n** Meet info  Shark holiday classic \n** event list  shark holiday classic event list \n** pre meet info and revised meet times ny sharks revised meet info.pdf \n** The entry deadline for amending entries is 8 pm Tues  11/27.   The entry form will not be available after 8 pm 11/27.  NO emailed entries \n[upme_private] \n\nJavascript is disabledJavascript is disabled on your browser. Please enable it in order to use this form. \nLoading\n\nOops!This sign-up form has expired \n[/upme_private]
URL:https://www.jerseygatorsparents.com/event/ny-sharks-holiday-classic/
LOCATION:Fexil Festa Middle School 30 Parrox Road\, west Nyack\, NY\, 30 Parrott Rd\, West Nyack\, NY\, 10994\, United States
CATEGORIES:Away Swim Meet,Invitational,Swim meets
ATTACH;FMTTYPE=image/jpeg:https://www.jerseygatorsparents.com/wp-content/uploads/2018/03/IMG_0849.jpg
END:VEVENT
END:VCALENDAR