BEGIN:VCALENDAR
VERSION:2.0
PRODID:-//Jersey Gators Parents Association - ECPv6.15.14//NONSGML v1.0//EN
CALSCALE:GREGORIAN
METHOD:PUBLISH
X-WR-CALNAME:Jersey Gators Parents Association
X-ORIGINAL-URL:https://www.jerseygatorsparents.com
X-WR-CALDESC:Events for Jersey Gators Parents Association
REFRESH-INTERVAL;VALUE=DURATION:PT1H
X-Robots-Tag:noindex
X-PUBLISHED-TTL:PT1H
BEGIN:VTIMEZONE
TZID:America/New_York
BEGIN:DAYLIGHT
TZOFFSETFROM:-0500
TZOFFSETTO:-0400
TZNAME:EDT
DTSTART:20170312T070000
END:DAYLIGHT
BEGIN:STANDARD
TZOFFSETFROM:-0400
TZOFFSETTO:-0500
TZNAME:EST
DTSTART:20171105T060000
END:STANDARD
BEGIN:DAYLIGHT
TZOFFSETFROM:-0500
TZOFFSETTO:-0400
TZNAME:EDT
DTSTART:20180311T070000
END:DAYLIGHT
BEGIN:STANDARD
TZOFFSETFROM:-0400
TZOFFSETTO:-0500
TZNAME:EST
DTSTART:20181104T060000
END:STANDARD
BEGIN:DAYLIGHT
TZOFFSETFROM:-0500
TZOFFSETTO:-0400
TZNAME:EDT
DTSTART:20190310T070000
END:DAYLIGHT
BEGIN:STANDARD
TZOFFSETFROM:-0400
TZOFFSETTO:-0500
TZNAME:EST
DTSTART:20191103T060000
END:STANDARD
END:VTIMEZONE
BEGIN:VEVENT
DTSTART;TZID=America/New_York:20180911T160000
DTEND;TZID=America/New_York:20180911T173000
DTSTAMP:20260423T230800
CREATED:20180804T155146Z
LAST-MODIFIED:20180804T155146Z
UID:3022-1536681600-1536687000@www.jerseygatorsparents.com
SUMMARY:2018/2019 Season Tryouts
DESCRIPTION:2018/2019 Swim Season Tryouts will take place at 4pm on 9/11 for 10 and Up and 9/12 for 9 and Under.  Both tryouts will take place at Centennial Avenue Pool.  For questions or concerns\, please email Cathleen at jerseygators@jerseygatorsparents.com
URL:https://www.jerseygatorsparents.com/event/2018-2019-season-tryouts-2/
LOCATION:NJ
CATEGORIES:Tryouts
END:VEVENT
END:VCALENDAR